BEGIN:VCALENDAR
VERSION:2.0
PRODID:-//ChamberMaster//Event Calendar 2.0//EN
METHOD:PUBLISH
X-PUBLISHED-TTL:P3D
REFRESH-INTERVAL:P3D
CALSCALE:GREGORIAN
BEGIN:VEVENT
DTSTART:20260515T160000Z
DTEND:20260516T003000Z
X-MICROSOFT-CDO-ALLDAYEVENT:FALSE
SUMMARY:Mother's Day Mimosa Bar at The Cellar Uncorked by Noisy Water Winery
DESCRIPTION:Celebrate Mother's Day at Noisy Water Winery with an all-day Mimosa Bar on May 10th! For $15\, enjoy a build-your-own mimosa experience with a variety of juices and fresh garnishes. Held at the Midtown Tasting Room in Ruidoso\, this relaxed event is perfect for toasting Mom.
X-ALT-DESC;FMTTYPE=text/html:Celebrate Mother&#39\;s Day at Noisy Water Winery with an all-day Mimosa Bar on May 10th! For $15\, enjoy a build-your-own mimosa experience with a variety of juices and fresh garnishes. Held at the Midtown Tasting Room in Ruidoso\, this relaxed event is perfect for toasting Mom.&nbsp\;
LOCATION:The Cellar Uncorked by Noisy Water Winery Midtown Tasting Room in Ruidoso
UID:e.849.95896
SEQUENCE:3
DTSTAMP:20260422T145618Z
URL:https://business.ruidosonow.com/events/details/mother-s-day-mimosa-bar-at-the-cellar-uncorked-by-noisy-water-winery-95896
END:VEVENT

END:VCALENDAR
