BEGIN:VCALENDAR
VERSION:2.0
PRODID:-//ChamberMaster//Event Calendar 2.0//EN
METHOD:PUBLISH
X-PUBLISHED-TTL:P3D
REFRESH-INTERVAL:P3D
CALSCALE:GREGORIAN
BEGIN:VEVENT
DTSTART:20260520T160000Z
DTEND:20260520T200000Z
X-MICROSOFT-CDO-ALLDAYEVENT:FALSE
SUMMARY:Job Fair for the Inn of the Mountain Gods
DESCRIPTION:Inn of the Mountain Gods is having a job fair on May 20th from 10am-2pm. This job fair will be held at the Mescalero Activity Hall in Mescalero\, NM. Please bring two forms of ID ( one must be a photo ID). Hope to see you there!
X-ALT-DESC;FMTTYPE=text/html:Inn of the Mountain Gods is having a job fair on May 20th from 10am-2pm. This job fair will be held at the Mescalero Activity Hall in Mescalero\, NM. Please bring two forms of ID ( one must be a photo ID). Hope to see you there!
LOCATION:Mescalero Activity Hall 181 Chiricahua Plaza Mescalero\, NM
UID:e.849.95898
SEQUENCE:3
DTSTAMP:20260422T145618Z
URL:https://business.ruidosonow.com/events/details/job-fair-for-the-inn-of-the-mountain-gods-95898
END:VEVENT

END:VCALENDAR
