BEGIN:VCALENDAR
VERSION:2.0
PRODID:-//ChamberMaster//Event Calendar 2.0//EN
METHOD:PUBLISH
X-PUBLISHED-TTL:P3D
REFRESH-INTERVAL:P3D
CALSCALE:GREGORIAN
BEGIN:VEVENT
DTSTART:20260505T160000Z
DTEND:20260505T200000Z
X-MICROSOFT-CDO-ALLDAYEVENT:FALSE
SUMMARY:Job Fair for the Inn of the Mountain Gods
DESCRIPTION:Inn of the Mountain Gods is having a job fair on May 5th from 10am-2pm. This job fair will be held at the Inn of the Mountain Gods Pre-Function Room. Please bring two forms of ID ( one must be a photo ID). Hope to see you there!
X-ALT-DESC;FMTTYPE=text/html:Inn of the Mountain Gods is having a job fair on May 5th from 10am-2pm. This job fair will be held at the Inn of the Mountain Gods Pre-Function Room. Please bring two forms of ID ( one must be a photo ID). Hope to see you there!
LOCATION:Inn of the Mountain Gods 287 Carrizo Canyon Rd Mescalero\, NM
UID:e.849.95897
SEQUENCE:3
DTSTAMP:20260422T145529Z
URL:https://business.ruidosonow.com/events/details/job-fair-for-the-inn-of-the-mountain-gods-95897
END:VEVENT

END:VCALENDAR
