BEGIN:VCALENDAR
VERSION:2.0
PRODID:-//ChamberMaster//Event Calendar 2.0//EN
METHOD:PUBLISH
X-PUBLISHED-TTL:P3D
REFRESH-INTERVAL:P3D
CALSCALE:GREGORIAN
BEGIN:VEVENT
DTSTART:20260430T233000Z
DTEND:20260501T020000Z
X-MICROSOFT-CDO-ALLDAYEVENT:FALSE
SUMMARY:Five Course Wine Pairing Dinner at Noisy Water Winery
DESCRIPTION:Enjoy a five-course wine pairing dinner at Noisy Water Winery on April 30th in Ruidoso! Featuring dishes by Sysco Food Executive Chefs and expertly paired wines\, this guided tasting experience highlights flavor\, aroma and balance in each course. Tickets & reservations at www.noisywaterwinery.com/event
X-ALT-DESC;FMTTYPE=text/html:Enjoy a five-course wine pairing dinner at Noisy Water Winery on April 30th in Ruidoso! Featuring dishes by Sysco Food Executive Chefs and expertly paired wines\, this guided tasting experience highlights flavor\, aroma and balance in each course. Tickets &amp\; reservations at www.noisywaterwinery.com/event
LOCATION:Noisy Water Winery 2331 Sudderth Dr Ruidoso\, NM
UID:e.849.95895
SEQUENCE:3
DTSTAMP:20260420T195152Z
URL:https://business.ruidosonow.com/events/details/five-course-wine-pairing-dinner-at-noisy-water-winery-95895
END:VEVENT

END:VCALENDAR
