BEGIN:VCALENDAR
VERSION:2.0
PRODID:-//ChamberMaster//Event Calendar 2.0//EN
METHOD:PUBLISH
X-PUBLISHED-TTL:P3D
REFRESH-INTERVAL:P3D
CALSCALE:GREGORIAN
BEGIN:VEVENT
DTSTART:20260425T023000Z
DTEND:20260425T073000Z
X-MICROSOFT-CDO-ALLDAYEVENT:FALSE
SUMMARY:Apache Spirit LIVE at Quarters Nightclub & Grill
DESCRIPTION:Enjoy a lively night of music with Apache Spirit at Quarters Nightclub & Grill. Known for their blend of country\, rock and contemporary hits\, this Southwest favorite delivers a dance-floor-ready performance rooted in decades of experience and musical legacy. Great music\, great energy and a perfect night out in Ruidoso.
X-ALT-DESC;FMTTYPE=text/html:Enjoy a lively night of music with Apache Spirit at Quarters Nightclub &amp\; Grill. Known for their blend of country\, rock and contemporary hits\, this Southwest favorite delivers a dance-floor-ready performance rooted in decades of experience and musical legacy. Great music\, great energy and a perfect night out in Ruidoso.&nbsp\;
LOCATION:Quarters Nightclub & Grill 2535 Sudderth Dr Ruidoso\, NM
UID:e.849.95899
SEQUENCE:3
DTSTAMP:20260421T210125Z
URL:https://business.ruidosonow.com/events/details/apache-spirit-live-at-quarters-nightclub-grill-95899
END:VEVENT

END:VCALENDAR
